BEGIN:VCALENDAR
VERSION:2.0
PRODID:-//Parc - Family Centered Services for People with Disabilities - Plainville CT - ECPv6.15.15//NONSGML v1.0//EN
CALSCALE:GREGORIAN
METHOD:PUBLISH
X-ORIGINAL-URL:https://www.parcdisabilitiesct.org
X-WR-CALDESC:Events for Parc - Family Centered Services for People with Disabilities - Plainville CT
REFRESH-INTERVAL;VALUE=DURATION:PT1H
X-Robots-Tag:noindex
X-PUBLISHED-TTL:PT1H
BEGIN:VTIMEZONE
TZID:UTC
BEGIN:STANDARD
TZOFFSETFROM:+0000
TZOFFSETTO:+0000
TZNAME:UTC
DTSTART:20240101T000000
END:STANDARD
END:VTIMEZONE
BEGIN:VEVENT
DTSTART;TZID=UTC:20251008T180000
DTEND;TZID=UTC:20251008T200000
DTSTAMP:20260421T121021
CREATED:20250925T020516Z
LAST-MODIFIED:20250925T025831Z
UID:15812-1759946400-1759953600@www.parcdisabilitiesct.org
SUMMARY:Dinner at Sax Pizza - Pick up & Drop off at Sax - Tweens welcome!
DESCRIPTION:Dinner at Sax Pizza – Pick up & Drop off at Sax\, 23 East St. Tweens welcome!
URL:https://www.parcdisabilitiesct.org/event/dinner-at-sax-pizza-pick-up-drop-off-at-sax-tweens-welcome/
CATEGORIES:Healthy Living activity
ATTACH;FMTTYPE=image/jpeg:https://www.parcdisabilitiesct.org/wp-content/uploads/2022/04/Pizza.jpg
END:VEVENT
BEGIN:VEVENT
DTSTART;TZID=UTC:20251011T100000
DTEND;TZID=UTC:20251011T120000
DTSTAMP:20260421T121021
CREATED:20250922T181123Z
LAST-MODIFIED:20250922T181123Z
UID:15784-1760176800-1760184000@www.parcdisabilitiesct.org
SUMMARY:Bowling at Lessard Lanes - Tweens Welcome
DESCRIPTION:Bowling is free on Saturdays at Lessard Lanes for PARC members – tweens welcome!
URL:https://www.parcdisabilitiesct.org/event/bowling-at-lessard-lanes-tweens-welcome-20/
CATEGORIES:Healthy Living activity
ATTACH;FMTTYPE=image/jpeg:https://www.parcdisabilitiesct.org/wp-content/uploads/2024/06/IMG_20231118_172924.jpg
END:VEVENT
BEGIN:VEVENT
DTSTART;TZID=UTC:20251018T100000
DTEND;TZID=UTC:20251018T120000
DTSTAMP:20260421T121021
CREATED:20250922T181434Z
LAST-MODIFIED:20250922T181434Z
UID:15786-1760781600-1760788800@www.parcdisabilitiesct.org
SUMMARY:Bowling at Lessard Lanes - Tweens Welcome!
DESCRIPTION:Bowling is free on Saturdays at Lessard Lanes for PARC members – tweens welcome!
URL:https://www.parcdisabilitiesct.org/event/bowling-at-lessard-lanes-tweens-welcome-21/
CATEGORIES:Healthy Living activity
ATTACH;FMTTYPE=image/jpeg:https://www.parcdisabilitiesct.org/wp-content/uploads/2023/07/bowling.jpg
END:VEVENT
BEGIN:VEVENT
DTSTART;TZID=UTC:20251025T100000
DTEND;TZID=UTC:20251025T120000
DTSTAMP:20260421T121021
CREATED:20250925T010457Z
LAST-MODIFIED:20250925T010457Z
UID:15789-1761386400-1761393600@www.parcdisabilitiesct.org
SUMMARY:Bowling at Lessard Lanes - Tweens Welcome
DESCRIPTION:Bowling is free for PARC members on Saturdays at Lessard Lanes – tweens are welcome!
URL:https://www.parcdisabilitiesct.org/event/bowling-at-lessard-lanes-tweens-welcome-22/
CATEGORIES:Healthy Living activity
ATTACH;FMTTYPE=image/jpeg:https://www.parcdisabilitiesct.org/wp-content/uploads/2024/06/IMG_20231118_172924.jpg
END:VEVENT
END:VCALENDAR