BEGIN:VCALENDAR
VERSION:2.0
PRODID:-//Parc - Family Centered Services for People with Disabilities - Plainville CT - ECPv6.15.15//NONSGML v1.0//EN
CALSCALE:GREGORIAN
METHOD:PUBLISH
X-ORIGINAL-URL:https://www.parcdisabilitiesct.org
X-WR-CALDESC:Events for Parc - Family Centered Services for People with Disabilities - Plainville CT
REFRESH-INTERVAL;VALUE=DURATION:PT1H
X-Robots-Tag:noindex
X-PUBLISHED-TTL:PT1H
BEGIN:VTIMEZONE
TZID:UTC
BEGIN:STANDARD
TZOFFSETFROM:+0000
TZOFFSETTO:+0000
TZNAME:UTC
DTSTART:20250101T000000
END:STANDARD
END:VTIMEZONE
BEGIN:VEVENT
DTSTART;TZID=UTC:20260430T180000
DTEND;TZID=UTC:20260430T193000
DTSTAMP:20260424T001131
CREATED:20260423T144910Z
LAST-MODIFIED:20260423T144910Z
UID:16224-1777572000-1777577400@www.parcdisabilitiesct.org
SUMMARY:Pickleball Night!
DESCRIPTION:Meet and get picked up at Camp Pickleball\, 17 Northwest Drive!
URL:https://www.parcdisabilitiesct.org/event/pickleball-night/
CATEGORIES:Healthy Living activity
ATTACH;FMTTYPE=image/jpeg:https://www.parcdisabilitiesct.org/wp-content/uploads/2024/11/pickleball-hit-sticker-vector-32858102.jpg
END:VEVENT
END:VCALENDAR