BEGIN:VCALENDAR
VERSION:2.0
PRODID:-//Parc - Family Centered Services for People with Disabilities - Plainville CT - ECPv6.15.15//NONSGML v1.0//EN
CALSCALE:GREGORIAN
METHOD:PUBLISH
X-ORIGINAL-URL:https://www.parcdisabilitiesct.org
X-WR-CALDESC:Events for Parc - Family Centered Services for People with Disabilities - Plainville CT
REFRESH-INTERVAL;VALUE=DURATION:PT1H
X-Robots-Tag:noindex
X-PUBLISHED-TTL:PT1H
BEGIN:VTIMEZONE
TZID:UTC
BEGIN:STANDARD
TZOFFSETFROM:+0000
TZOFFSETTO:+0000
TZNAME:UTC
DTSTART:20250101T000000
END:STANDARD
END:VTIMEZONE
BEGIN:VEVENT
DTSTART;TZID=UTC:20260105T183000
DTEND;TZID=UTC:20260105T200000
DTSTAMP:20260422T140021
CREATED:20260112T015919Z
LAST-MODIFIED:20260112T015919Z
UID:16035-1767637800-1767643200@www.parcdisabilitiesct.org
SUMMARY:Adult Life Skills
DESCRIPTION:Adult Life Skills
URL:https://www.parcdisabilitiesct.org/event/adult-life-skills-86/
CATEGORIES:Adult Life Skills
ATTACH;FMTTYPE=image/jpeg:https://www.parcdisabilitiesct.org/wp-content/uploads/2025/12/Life-Skills-004.jpg
END:VEVENT
BEGIN:VEVENT
DTSTART;TZID=UTC:20260112T183000
DTEND;TZID=UTC:20260112T200000
DTSTAMP:20260422T140021
CREATED:20260112T020112Z
LAST-MODIFIED:20260112T020112Z
UID:16037-1768242600-1768248000@www.parcdisabilitiesct.org
SUMMARY:Adult Life Skills
DESCRIPTION:Adult Life Skills
URL:https://www.parcdisabilitiesct.org/event/adult-life-skills-87/
CATEGORIES:Adult Life Skills
ATTACH;FMTTYPE=image/jpeg:https://www.parcdisabilitiesct.org/wp-content/uploads/2025/12/Life-Skills-004.jpg
END:VEVENT
BEGIN:VEVENT
DTSTART;TZID=UTC:20260119T183000
DTEND;TZID=UTC:20260119T200000
DTSTAMP:20260422T140021
CREATED:20260112T020726Z
LAST-MODIFIED:20260112T020726Z
UID:16039-1768847400-1768852800@www.parcdisabilitiesct.org
SUMMARY:NO Adult Life Skills - Martin Luther King Day
DESCRIPTION:NO Adult Life Skills – Martin Luther King Jr. Day
URL:https://www.parcdisabilitiesct.org/event/no-adult-life-skills-martin-luther-king-day/
CATEGORIES:Adult Life Skills
ATTACH;FMTTYPE=image/png:https://www.parcdisabilitiesct.org/wp-content/uploads/2026/01/martin-luther-king-jr-quotes-2.png
END:VEVENT
BEGIN:VEVENT
DTSTART;TZID=UTC:20260126T183000
DTEND;TZID=UTC:20260126T200000
DTSTAMP:20260422T140021
CREATED:20260112T020948Z
LAST-MODIFIED:20260112T020948Z
UID:16042-1769452200-1769457600@www.parcdisabilitiesct.org
SUMMARY:Adult Life Skills
DESCRIPTION:Adult Life Skills
URL:https://www.parcdisabilitiesct.org/event/adult-life-skills-88/
CATEGORIES:Adult Life Skills
ATTACH;FMTTYPE=image/jpeg:https://www.parcdisabilitiesct.org/wp-content/uploads/2025/12/Life-Skills-004.jpg
END:VEVENT
END:VCALENDAR