BEGIN:VCALENDAR
VERSION:2.0
PRODID:-//Parc - Family Centered Services for People with Disabilities - Plainville CT - ECPv6.15.15//NONSGML v1.0//EN
CALSCALE:GREGORIAN
METHOD:PUBLISH
X-WR-CALNAME:Parc - Family Centered Services for People with Disabilities - Plainville CT
X-ORIGINAL-URL:https://www.parcdisabilitiesct.org
X-WR-CALDESC:Events for Parc - Family Centered Services for People with Disabilities - Plainville CT
REFRESH-INTERVAL;VALUE=DURATION:PT1H
X-Robots-Tag:noindex
X-PUBLISHED-TTL:PT1H
BEGIN:VTIMEZONE
TZID:UTC
BEGIN:STANDARD
TZOFFSETFROM:+0000
TZOFFSETTO:+0000
TZNAME:UTC
DTSTART:20240101T000000
END:STANDARD
END:VTIMEZONE
BEGIN:VEVENT
DTSTART;TZID=UTC:20251210T180000
DTEND;TZID=UTC:20251210T200000
DTSTAMP:20260425T004404
CREATED:20251210T213049Z
LAST-MODIFIED:20251210T213049Z
UID:15986-1765389600-1765396800@www.parcdisabilitiesct.org
SUMMARY:Holiday Party Tonight\, Dec. 10!
DESCRIPTION:Remember our annual Holiday Party tonight\, Wednesday\, Dec. 10! Meet at the YMCA on Farmington Avenue for food\, music\, fun and…. Santa from 6 to 8 p.m.! If you wish\, bring a dish to share!
URL:https://www.parcdisabilitiesct.org/event/holiday-party-tonight-dec-10/
CATEGORIES:Special Event
ATTACH;FMTTYPE=image/jpeg:https://www.parcdisabilitiesct.org/wp-content/uploads/2025/12/IMG_20231213_192352462-scaled.jpg
END:VEVENT
END:VCALENDAR