BEGIN:VCALENDAR
VERSION:2.0
PRODID:-//Parc - Family Centered Services for People with Disabilities - Plainville CT - ECPv6.15.15//NONSGML v1.0//EN
CALSCALE:GREGORIAN
METHOD:PUBLISH
X-WR-CALNAME:Parc - Family Centered Services for People with Disabilities - Plainville CT
X-ORIGINAL-URL:https://www.parcdisabilitiesct.org
X-WR-CALDESC:Events for Parc - Family Centered Services for People with Disabilities - Plainville CT
REFRESH-INTERVAL;VALUE=DURATION:PT1H
X-Robots-Tag:noindex
X-PUBLISHED-TTL:PT1H
BEGIN:VTIMEZONE
TZID:UTC
BEGIN:STANDARD
TZOFFSETFROM:+0000
TZOFFSETTO:+0000
TZNAME:UTC
DTSTART:20240101T000000
END:STANDARD
END:VTIMEZONE
BEGIN:VEVENT
DTSTART;TZID=UTC:20250927T100000
DTEND;TZID=UTC:20250927T120000
DTSTAMP:20260424T082328
CREATED:20250827T015642Z
LAST-MODIFIED:20250827T015642Z
UID:15711-1758967200-1758974400@www.parcdisabilitiesct.org
SUMMARY:Bowling at Lessard Lanes - tweens welcome!
DESCRIPTION:Bowling at Lessard Lanes on Saturdays is free for PARC members – tweens welcome!
URL:https://www.parcdisabilitiesct.org/event/bowling-at-lessard-lanes-tweens-welcome-19/
CATEGORIES:Healthy Living activity
ATTACH;FMTTYPE=image/jpeg:https://www.parcdisabilitiesct.org/wp-content/uploads/2023/07/bowling.jpg
END:VEVENT
END:VCALENDAR