BEGIN:VCALENDAR
VERSION:2.0
PRODID:-//Parc - Family Centered Services for People with Disabilities - Plainville CT - ECPv6.15.15//NONSGML v1.0//EN
CALSCALE:GREGORIAN
METHOD:PUBLISH
X-WR-CALNAME:Parc - Family Centered Services for People with Disabilities - Plainville CT
X-ORIGINAL-URL:https://www.parcdisabilitiesct.org
X-WR-CALDESC:Events for Parc - Family Centered Services for People with Disabilities - Plainville CT
REFRESH-INTERVAL;VALUE=DURATION:PT1H
X-Robots-Tag:noindex
X-PUBLISHED-TTL:PT1H
BEGIN:VTIMEZONE
TZID:UTC
BEGIN:STANDARD
TZOFFSETFROM:+0000
TZOFFSETTO:+0000
TZNAME:UTC
DTSTART:20240101T000000
END:STANDARD
END:VTIMEZONE
BEGIN:VEVENT
DTSTART;TZID=UTC:20251101T100000
DTEND;TZID=UTC:20251101T120000
DTSTAMP:20260422T102949
CREATED:20251107T191553Z
LAST-MODIFIED:20251107T191553Z
UID:15854-1761991200-1761998400@www.parcdisabilitiesct.org
SUMMARY:Bowling at Lessard Lanes
DESCRIPTION:
URL:https://www.parcdisabilitiesct.org/event/bowling-at-lessard-lanes-123/
END:VEVENT
BEGIN:VEVENT
DTSTART;TZID=UTC:20251108T100000
DTEND;TZID=UTC:20251108T120000
DTSTAMP:20260422T102949
CREATED:20251107T192628Z
LAST-MODIFIED:20251108T004122Z
UID:15865-1762596000-1762603200@www.parcdisabilitiesct.org
SUMMARY:Bowling at Lessard Lanes - Tweens welcome!
DESCRIPTION:Bowling is free on Saturdays at Lessard Lanes for PARC members! Tweens welcome!
URL:https://www.parcdisabilitiesct.org/event/bowling-at-lessard-lanes-124/
CATEGORIES:Healthy Living activity
ATTACH;FMTTYPE=image/jpeg:https://www.parcdisabilitiesct.org/wp-content/uploads/2024/06/IMG_20231118_172924.jpg
END:VEVENT
BEGIN:VEVENT
DTSTART;TZID=UTC:20251115T100000
DTEND;TZID=UTC:20251115T120000
DTSTAMP:20260422T102949
CREATED:20251107T193036Z
LAST-MODIFIED:20251108T002519Z
UID:15867-1763200800-1763208000@www.parcdisabilitiesct.org
SUMMARY:Bowling at Lessard Lanes - Tweens Welcome
DESCRIPTION:Bowling at Lessard Lanes is free on Saturdays for PARC members! Tweens welcome!
URL:https://www.parcdisabilitiesct.org/event/bowling-at-lessard-lanes-125/
CATEGORIES:Healthy Living activity
ATTACH;FMTTYPE=image/jpeg:https://www.parcdisabilitiesct.org/wp-content/uploads/2024/06/IMG_20231118_172924.jpg
END:VEVENT
BEGIN:VEVENT
DTSTART;TZID=UTC:20251122T160000
DTEND;TZID=UTC:20251122T190000
DTSTAMP:20260422T102949
CREATED:20251108T000237Z
LAST-MODIFIED:20251108T002417Z
UID:15869-1763827200-1763838000@www.parcdisabilitiesct.org
SUMMARY:Robinson Thanksgiving Bowling Classic
DESCRIPTION:We are ready for our annual Robinson Thanksgiving Bowling Classic on Saturday\, Nov. 22\, from 4-7pm\, at Lessard Lanes in Plainville! The cost is $15 for PARC members and $30 for other bowlers/mini golfers. The fee includes open bowling or mini golf\, shoe rental. hot dog & soft drink\, T-shirt\, and door prize ticket. There are a few spaces left for this fun-raiser! Register here: 2025 PARC Robinson Thanksgiving Bowling Classic! – Parc – Family Centered Services for People with Disabilities – Plainville CT
URL:https://www.parcdisabilitiesct.org/event/robinson-thanksgiving-bowling-classic/
CATEGORIES:Special Event
ATTACH;FMTTYPE=image/jpeg:https://www.parcdisabilitiesct.org/wp-content/uploads/2025/10/00001123_161312-scaled.jpg
END:VEVENT
BEGIN:VEVENT
DTSTART;TZID=UTC:20251129T100000
DTEND;TZID=UTC:20251129T120000
DTSTAMP:20260422T102949
CREATED:20251108T000621Z
LAST-MODIFIED:20251108T002645Z
UID:15874-1764410400-1764417600@www.parcdisabilitiesct.org
SUMMARY:Bowling at Lessard Lanes- Tweens welcome!
DESCRIPTION:Bowling at Lessard Lanes is free on Saturdays for PARC members! Tweens welcome!
URL:https://www.parcdisabilitiesct.org/event/bowling-at-lessard-lanes-126/
CATEGORIES:Healthy Living activity
ATTACH;FMTTYPE=image/jpeg:https://www.parcdisabilitiesct.org/wp-content/uploads/2025/10/00001123_161312-scaled.jpg
END:VEVENT
END:VCALENDAR