BEGIN:VCALENDAR
VERSION:2.0
PRODID:-//Parc - Family Centered Services for People with Disabilities - Plainville CT - ECPv6.15.15//NONSGML v1.0//EN
CALSCALE:GREGORIAN
METHOD:PUBLISH
X-WR-CALNAME:Parc - Family Centered Services for People with Disabilities - Plainville CT
X-ORIGINAL-URL:https://www.parcdisabilitiesct.org
X-WR-CALDESC:Events for Parc - Family Centered Services for People with Disabilities - Plainville CT
REFRESH-INTERVAL;VALUE=DURATION:PT1H
X-Robots-Tag:noindex
X-PUBLISHED-TTL:PT1H
BEGIN:VTIMEZONE
TZID:UTC
BEGIN:STANDARD
TZOFFSETFROM:+0000
TZOFFSETTO:+0000
TZNAME:UTC
DTSTART:20250101T000000
END:STANDARD
END:VTIMEZONE
BEGIN:VEVENT
DTSTART;TZID=UTC:20260221T100000
DTEND;TZID=UTC:20260221T120000
DTSTAMP:20260421T141717
CREATED:20260208T230313Z
LAST-MODIFIED:20260208T230313Z
UID:16086-1771668000-1771675200@www.parcdisabilitiesct.org
SUMMARY:Bowling at Lessard Lanes
DESCRIPTION:Bowling is free for PARC members at Lessard Lanes on Saturday mornings – tweens are welcome!
URL:https://www.parcdisabilitiesct.org/event/bowling-at-lessard-lanes-129/
CATEGORIES:Healthy Living activity
ATTACH;FMTTYPE=image/jpeg:https://www.parcdisabilitiesct.org/wp-content/uploads/2018/04/David-bowling.jpg
END:VEVENT
BEGIN:VEVENT
DTSTART;TZID=UTC:20260225T180000
DTEND;TZID=UTC:20260225T200000
DTSTAMP:20260421T141717
CREATED:20260214T034830Z
LAST-MODIFIED:20260214T034830Z
UID:16113-1772042400-1772049600@www.parcdisabilitiesct.org
SUMMARY:Wii & Board Games Night
DESCRIPTION:Wii & Board Games Night
URL:https://www.parcdisabilitiesct.org/event/wii-board-games-night-2/
CATEGORIES:Healthy Living activity
ATTACH;FMTTYPE=image/jpeg:https://www.parcdisabilitiesct.org/wp-content/uploads/2022/06/games.jpg
END:VEVENT
BEGIN:VEVENT
DTSTART;TZID=UTC:20260226T180000
DTEND;TZID=UTC:20260226T200000
DTSTAMP:20260421T141717
CREATED:20260214T041224Z
LAST-MODIFIED:20260214T041224Z
UID:16122-1772128800-1772136000@www.parcdisabilitiesct.org
SUMMARY:Spa/ Face Mask Night
DESCRIPTION:Spa/ Face Mask Night
URL:https://www.parcdisabilitiesct.org/event/spa-face-mask-night/
CATEGORIES:Healthy Living activity
ATTACH;FMTTYPE=image/jpeg:https://www.parcdisabilitiesct.org/wp-content/uploads/2022/05/spa-scaled.jpg
END:VEVENT
BEGIN:VEVENT
DTSTART;TZID=UTC:20260304T180000
DTEND;TZID=UTC:20260304T200000
DTSTAMP:20260421T141717
CREATED:20260303T025611Z
LAST-MODIFIED:20260303T025611Z
UID:16158-1772647200-1772654400@www.parcdisabilitiesct.org
SUMMARY:Swim Night at the YMCA
DESCRIPTION:Swim Night at the YMCA – Meet and pick up at the Wheeler Y.
URL:https://www.parcdisabilitiesct.org/event/swim-night-at-the-ymca/
CATEGORIES:Healthy Living activity
ATTACH;FMTTYPE=image/jpeg:https://www.parcdisabilitiesct.org/wp-content/uploads/2023/07/Swimming-group.jpg
END:VEVENT
BEGIN:VEVENT
DTSTART;TZID=UTC:20260305T180000
DTEND;TZID=UTC:20260305T200000
DTSTAMP:20260421T141717
CREATED:20260303T155956Z
LAST-MODIFIED:20260303T155956Z
UID:16183-1772733600-1772740800@www.parcdisabilitiesct.org
SUMMARY:Wii & Board Games Night
DESCRIPTION:Wii & Board Games Night
URL:https://www.parcdisabilitiesct.org/event/wii-board-games-night-3/
CATEGORIES:Healthy Living activity
ATTACH;FMTTYPE=image/jpeg:https://www.parcdisabilitiesct.org/wp-content/uploads/2022/06/games.jpg
END:VEVENT
BEGIN:VEVENT
DTSTART;TZID=UTC:20260307T100000
DTEND;TZID=UTC:20260307T120000
DTSTAMP:20260421T141717
CREATED:20260303T154453Z
LAST-MODIFIED:20260303T154453Z
UID:16174-1772877600-1772884800@www.parcdisabilitiesct.org
SUMMARY:Bowling at Lessard Lanes - Tweens Welcome!
DESCRIPTION:Bowling at Lessard Lanes is free on Saturdays for PARC members – tweens welcome!
URL:https://www.parcdisabilitiesct.org/event/bowling-at-lessard-lanes-tweens-welcome-29/
CATEGORIES:Healthy Living activity
ATTACH;FMTTYPE=image/jpeg:https://www.parcdisabilitiesct.org/wp-content/uploads/2024/06/IMG_20231118_172924.jpg
END:VEVENT
BEGIN:VEVENT
DTSTART;TZID=UTC:20260311T180000
DTEND;TZID=UTC:20260311T200000
DTSTAMP:20260421T141717
CREATED:20260303T025936Z
LAST-MODIFIED:20260303T025936Z
UID:16160-1773252000-1773259200@www.parcdisabilitiesct.org
SUMMARY:Dinner at Sax Pizza - Tweens welcome!
DESCRIPTION:Dinner at Sax Pizza – Tweens welcome! Meet and pick up at Sax!
URL:https://www.parcdisabilitiesct.org/event/dinner-at-sax-pizza-tweens-welcome-9/
CATEGORIES:Healthy Living activity
ATTACH;FMTTYPE=image/jpeg:https://www.parcdisabilitiesct.org/wp-content/uploads/2022/04/Pizza.jpg
END:VEVENT
BEGIN:VEVENT
DTSTART;TZID=UTC:20260312T180000
DTEND;TZID=UTC:20260312T200000
DTSTAMP:20260421T141717
CREATED:20260303T153659Z
LAST-MODIFIED:20260303T153659Z
UID:16168-1773338400-1773345600@www.parcdisabilitiesct.org
SUMMARY:St. Patrick's Day Activities - Wear green!
DESCRIPTION:St. Patrick’s Day Activities – Wear green!
URL:https://www.parcdisabilitiesct.org/event/st-patricks-day-activities-wear-green/
CATEGORIES:Healthy Living activity
ATTACH;FMTTYPE=image/png:https://www.parcdisabilitiesct.org/wp-content/uploads/2024/02/St-Patricks-Day.png
END:VEVENT
BEGIN:VEVENT
DTSTART;TZID=UTC:20260314T100000
DTEND;TZID=UTC:20260314T120000
DTSTAMP:20260421T141717
CREATED:20260303T154733Z
LAST-MODIFIED:20260303T154733Z
UID:16176-1773482400-1773489600@www.parcdisabilitiesct.org
SUMMARY:Bowling at Lessard Lanes - Tweens Welcome!
DESCRIPTION:Bowling at Lessard Lanes is free on Saturdays for PARC members – tweens welcome!
URL:https://www.parcdisabilitiesct.org/event/bowling-at-lessard-lanes-tweens-welcome-30/
CATEGORIES:Healthy Living activity
ATTACH;FMTTYPE=image/png:https://www.parcdisabilitiesct.org/wp-content/uploads/2022/06/Bowling-pins.png
END:VEVENT
BEGIN:VEVENT
DTSTART;TZID=UTC:20260318T180000
DTEND;TZID=UTC:20260318T200000
DTSTAMP:20260421T141717
CREATED:20260303T031147Z
LAST-MODIFIED:20260303T031147Z
UID:16162-1773856800-1773864000@www.parcdisabilitiesct.org
SUMMARY:Irish Facts with Irish ** - Tweens welcome!
DESCRIPTION:** Our friend\, Irish\, who many know from the Plainville Fire Department\, will visit PARC on March 18 to talk to us about what it’s like to live in Ireland! During our St. Patrick’s Day activities on March 12\, we will also be writing questions to ask him when he comes. Please join us in this special activity! Tweens welcome.
URL:https://www.parcdisabilitiesct.org/event/irish-facts-with-irish-tweens-welcome/
CATEGORIES:Healthy Living activity
ATTACH;FMTTYPE=image/png:https://www.parcdisabilitiesct.org/wp-content/uploads/2026/03/st-patricks-day-clip-art.png
END:VEVENT
BEGIN:VEVENT
DTSTART;TZID=UTC:20260319T180000
DTEND;TZID=UTC:20260319T200000
DTSTAMP:20260421T141717
CREATED:20260303T153907Z
LAST-MODIFIED:20260303T153907Z
UID:16170-1773943200-1773950400@www.parcdisabilitiesct.org
SUMMARY:Live Music with Greg!
DESCRIPTION:Live Music with Greg!
URL:https://www.parcdisabilitiesct.org/event/live-music-with-greg-5/
CATEGORIES:Healthy Living activity
ATTACH;FMTTYPE=image/jpeg:https://www.parcdisabilitiesct.org/wp-content/uploads/2024/10/music_notes-1z5rh82.jpg
END:VEVENT
BEGIN:VEVENT
DTSTART;TZID=UTC:20260321T100000
DTEND;TZID=UTC:20260321T120000
DTSTAMP:20260421T141717
CREATED:20260303T155252Z
LAST-MODIFIED:20260303T155252Z
UID:16178-1774087200-1774094400@www.parcdisabilitiesct.org
SUMMARY:Bowling at Lessard Lanes - tweens welcome!
DESCRIPTION:Bowling at Lessard Lanes is free on Saturdays for PARC members – tweens welcome!
URL:https://www.parcdisabilitiesct.org/event/bowling-at-lessard-lanes-tweens-welcome-31/
CATEGORIES:Healthy Living activity
ATTACH;FMTTYPE=image/jpeg:https://www.parcdisabilitiesct.org/wp-content/uploads/2023/07/bowling.jpg
END:VEVENT
BEGIN:VEVENT
DTSTART;TZID=UTC:20260325T180000
DTEND;TZID=UTC:20260325T200000
DTSTAMP:20260421T141717
CREATED:20260303T032010Z
LAST-MODIFIED:20260303T032010Z
UID:16165-1774461600-1774468800@www.parcdisabilitiesct.org
SUMMARY:Movie Night: Beauty and the Beast Live Action!
DESCRIPTION:Movie Night: Beauty and the Beast Live Action!
URL:https://www.parcdisabilitiesct.org/event/movie-night-beauty-and-the-beast-live-action/
CATEGORIES:Healthy Living activity
ATTACH;FMTTYPE=image/png:https://www.parcdisabilitiesct.org/wp-content/uploads/2026/03/Beauty-and-the-Beast.png
END:VEVENT
BEGIN:VEVENT
DTSTART;TZID=UTC:20260326T180000
DTEND;TZID=UTC:20260326T200000
DTSTAMP:20260421T141717
CREATED:20260303T154212Z
LAST-MODIFIED:20260303T154212Z
UID:16172-1774548000-1774555200@www.parcdisabilitiesct.org
SUMMARY:Casino Night!
DESCRIPTION:One of our favorite activities: Casino Night!
URL:https://www.parcdisabilitiesct.org/event/casino-night-5/
CATEGORIES:Healthy Living activity
ATTACH;FMTTYPE=image/jpeg:https://www.parcdisabilitiesct.org/wp-content/uploads/2023/07/337272794_3451191665149842_5238012141093740313_n.jpg
END:VEVENT
BEGIN:VEVENT
DTSTART;TZID=UTC:20260328T100000
DTEND;TZID=UTC:20260328T120000
DTSTAMP:20260421T141717
CREATED:20260303T155646Z
LAST-MODIFIED:20260303T155646Z
UID:16180-1774692000-1774699200@www.parcdisabilitiesct.org
SUMMARY:Bowling at Lessard Lanes - tweens welcome!
DESCRIPTION:Bowling at Lessard Lanes is free on Saturdays for PARC members – tweens welcome!
URL:https://www.parcdisabilitiesct.org/event/bowling-at-lessard-lanes-tweens-welcome-32/
CATEGORIES:Healthy Living activity
ATTACH;FMTTYPE=image/jpeg:https://www.parcdisabilitiesct.org/wp-content/uploads/2026/03/20251122_174752-scaled.jpg
END:VEVENT
END:VCALENDAR