BEGIN:VCALENDAR
VERSION:2.0
PRODID:-//Parc - Family Centered Services for People with Disabilities - Plainville CT - ECPv6.15.15//NONSGML v1.0//EN
CALSCALE:GREGORIAN
METHOD:PUBLISH
X-WR-CALNAME:Parc - Family Centered Services for People with Disabilities - Plainville CT
X-ORIGINAL-URL:https://www.parcdisabilitiesct.org
X-WR-CALDESC:Events for Parc - Family Centered Services for People with Disabilities - Plainville CT
REFRESH-INTERVAL;VALUE=DURATION:PT1H
X-Robots-Tag:noindex
X-PUBLISHED-TTL:PT1H
BEGIN:VTIMEZONE
TZID:UTC
BEGIN:STANDARD
TZOFFSETFROM:+0000
TZOFFSETTO:+0000
TZNAME:UTC
DTSTART:20250101T000000
END:STANDARD
END:VTIMEZONE
BEGIN:VEVENT
DTSTART;TZID=UTC:20260218T180000
DTEND;TZID=UTC:20260218T200000
DTSTAMP:20260421T123532
CREATED:20260214T034356Z
LAST-MODIFIED:20260214T034356Z
UID:16111-1771437600-1771444800@www.parcdisabilitiesct.org
SUMMARY:Swim Night at the YMCA - Meet at the YMCA
DESCRIPTION:Swim Night at the YMCA – Meet at the YMCA\, 149 Farmington Ave.\, Plainville
URL:https://www.parcdisabilitiesct.org/event/swim-night-at-the-ymca-meet-at-the-ymca/
CATEGORIES:Healthy Living activity
ATTACH;FMTTYPE=image/jpeg:https://www.parcdisabilitiesct.org/wp-content/uploads/2023/07/Swimming-group.jpg
END:VEVENT
END:VCALENDAR