BEGIN:VCALENDAR
VERSION:2.0
PRODID:-//Parc - Family Centered Services for People with Disabilities - Plainville CT - ECPv6.15.15//NONSGML v1.0//EN
CALSCALE:GREGORIAN
METHOD:PUBLISH
X-ORIGINAL-URL:https://www.parcdisabilitiesct.org
X-WR-CALDESC:Events for Parc - Family Centered Services for People with Disabilities - Plainville CT
REFRESH-INTERVAL;VALUE=DURATION:PT1H
X-Robots-Tag:noindex
X-PUBLISHED-TTL:PT1H
BEGIN:VTIMEZONE
TZID:UTC
BEGIN:STANDARD
TZOFFSETFROM:+0000
TZOFFSETTO:+0000
TZNAME:UTC
DTSTART:20240101T000000
END:STANDARD
END:VTIMEZONE
BEGIN:VEVENT
DTSTART;TZID=UTC:20251105T180000
DTEND;TZID=UTC:20251105T200000
DTSTAMP:20260421T161038
CREATED:20251107T192255Z
LAST-MODIFIED:20251107T192255Z
UID:15860-1762365600-1762372800@www.parcdisabilitiesct.org
SUMMARY:Tea Tasting Night!
DESCRIPTION:Tea Tasting Night!
URL:https://www.parcdisabilitiesct.org/event/tea-tasting-night/
CATEGORIES:Healthy Living activity
ATTACH;FMTTYPE=image/jpeg:https://www.parcdisabilitiesct.org/wp-content/uploads/2025/11/Tea-tasting.jpg
END:VEVENT
BEGIN:VEVENT
DTSTART;TZID=UTC:20251106T180000
DTEND;TZID=UTC:20251106T200000
DTSTAMP:20260421T161038
CREATED:20251107T192435Z
LAST-MODIFIED:20251107T192435Z
UID:15863-1762452000-1762459200@www.parcdisabilitiesct.org
SUMMARY:Karaoke Night!
DESCRIPTION:Karaoke Night!
URL:https://www.parcdisabilitiesct.org/event/karaoke-night-11/
CATEGORIES:Healthy Living activity
ATTACH;FMTTYPE=image/jpeg:https://www.parcdisabilitiesct.org/wp-content/uploads/2022/06/karaoke.jpg
END:VEVENT
BEGIN:VEVENT
DTSTART;TZID=UTC:20251108T100000
DTEND;TZID=UTC:20251108T120000
DTSTAMP:20260421T161038
CREATED:20251107T192628Z
LAST-MODIFIED:20251108T004122Z
UID:15865-1762596000-1762603200@www.parcdisabilitiesct.org
SUMMARY:Bowling at Lessard Lanes - Tweens welcome!
DESCRIPTION:Bowling is free on Saturdays at Lessard Lanes for PARC members! Tweens welcome!
URL:https://www.parcdisabilitiesct.org/event/bowling-at-lessard-lanes-124/
CATEGORIES:Healthy Living activity
ATTACH;FMTTYPE=image/jpeg:https://www.parcdisabilitiesct.org/wp-content/uploads/2024/06/IMG_20231118_172924.jpg
END:VEVENT
BEGIN:VEVENT
DTSTART;TZID=UTC:20251112T180000
DTEND;TZID=UTC:20251112T200000
DTSTAMP:20260421T161038
CREATED:20251108T001749Z
LAST-MODIFIED:20251108T001749Z
UID:15884-1762970400-1762977600@www.parcdisabilitiesct.org
SUMMARY:Dinner at Sax Pizza
DESCRIPTION:Dinner at Sax Pizza\, 23 East St. Meet and pickup AT SAX PIZZA. Tweens welcome.
URL:https://www.parcdisabilitiesct.org/event/dinner-at-sax-pizza-9/
CATEGORIES:Healthy Living activity
ATTACH;FMTTYPE=image/jpeg:https://www.parcdisabilitiesct.org/wp-content/uploads/2022/04/Pizza.jpg
END:VEVENT
BEGIN:VEVENT
DTSTART;TZID=UTC:20251113T180000
DTEND;TZID=UTC:20251113T200000
DTSTAMP:20260421T161038
CREATED:20251108T003809Z
LAST-MODIFIED:20251108T003809Z
UID:15902-1763056800-1763064000@www.parcdisabilitiesct.org
SUMMARY:Fall Gourd Crafts with Amy!
DESCRIPTION:Fall Gourd Crafts with Amy!
URL:https://www.parcdisabilitiesct.org/event/fall-gourd-crafts-with-amy/
CATEGORIES:Healthy Living activity
ATTACH;FMTTYPE=image/jpeg:https://www.parcdisabilitiesct.org/wp-content/uploads/2025/11/gourds-1507084915ALX.jpg
END:VEVENT
BEGIN:VEVENT
DTSTART;TZID=UTC:20251115T100000
DTEND;TZID=UTC:20251115T120000
DTSTAMP:20260421T161038
CREATED:20251107T193036Z
LAST-MODIFIED:20251108T002519Z
UID:15867-1763200800-1763208000@www.parcdisabilitiesct.org
SUMMARY:Bowling at Lessard Lanes - Tweens Welcome
DESCRIPTION:Bowling at Lessard Lanes is free on Saturdays for PARC members! Tweens welcome!
URL:https://www.parcdisabilitiesct.org/event/bowling-at-lessard-lanes-125/
CATEGORIES:Healthy Living activity
ATTACH;FMTTYPE=image/jpeg:https://www.parcdisabilitiesct.org/wp-content/uploads/2024/06/IMG_20231118_172924.jpg
END:VEVENT
BEGIN:VEVENT
DTSTART;TZID=UTC:20251119T180000
DTEND;TZID=UTC:20251119T200000
DTSTAMP:20260421T161038
CREATED:20251108T002028Z
LAST-MODIFIED:20251108T002028Z
UID:15886-1763575200-1763582400@www.parcdisabilitiesct.org
SUMMARY:Fall Leaves Craft Night
DESCRIPTION:Fall Leaves Craft Night
URL:https://www.parcdisabilitiesct.org/event/fall-leaves-craft-night/
CATEGORIES:Healthy Living activity
ATTACH;FMTTYPE=image/jpeg:https://www.parcdisabilitiesct.org/wp-content/uploads/2025/11/autumn-leaves-clip-art-25.jpg
END:VEVENT
BEGIN:VEVENT
DTSTART;TZID=UTC:20251120T180000
DTEND;TZID=UTC:20251120T200000
DTSTAMP:20260421T161038
CREATED:20251108T004026Z
LAST-MODIFIED:20251108T004026Z
UID:15905-1763661600-1763668800@www.parcdisabilitiesct.org
SUMMARY:Quarterly Birthday Party - Tweens Welcome!
DESCRIPTION:Come celebrate our quarterly birthdays – happy birthday to Maureen G.\, Denise\, Steven\, Cullen\, and Alicia! Tweens welcome!
URL:https://www.parcdisabilitiesct.org/event/quarterly-birthday-party-tweens-welcome/
CATEGORIES:Healthy Living activity
ATTACH;FMTTYPE=image/jpeg:https://www.parcdisabilitiesct.org/wp-content/uploads/2023/01/happy-birthday.jpg
END:VEVENT
BEGIN:VEVENT
DTSTART;TZID=UTC:20251126T180000
DTEND;TZID=UTC:20251126T200000
DTSTAMP:20260421T161038
CREATED:20251108T003350Z
LAST-MODIFIED:20251108T003350Z
UID:15897-1764180000-1764187200@www.parcdisabilitiesct.org
SUMMARY:Movie Night: Alexander and THNGVB Day!
DESCRIPTION:Movie Night: Alexander and the  Terrible\, Horrible\, No Good\, Very Bad Day!
URL:https://www.parcdisabilitiesct.org/event/movie-night-alexander-and-thngvb-day/
CATEGORIES:Healthy Living activity
ATTACH;FMTTYPE=image/jpeg:https://www.parcdisabilitiesct.org/wp-content/uploads/2025/11/alexander-and-the-terrible-horrible-no-good-very-bad-day-561d21f69216b.jpg
END:VEVENT
BEGIN:VEVENT
DTSTART;TZID=UTC:20251129T100000
DTEND;TZID=UTC:20251129T120000
DTSTAMP:20260421T161038
CREATED:20251108T000621Z
LAST-MODIFIED:20251108T002645Z
UID:15874-1764410400-1764417600@www.parcdisabilitiesct.org
SUMMARY:Bowling at Lessard Lanes- Tweens welcome!
DESCRIPTION:Bowling at Lessard Lanes is free on Saturdays for PARC members! Tweens welcome!
URL:https://www.parcdisabilitiesct.org/event/bowling-at-lessard-lanes-126/
CATEGORIES:Healthy Living activity
ATTACH;FMTTYPE=image/jpeg:https://www.parcdisabilitiesct.org/wp-content/uploads/2025/10/00001123_161312-scaled.jpg
END:VEVENT
END:VCALENDAR