BEGIN:VCALENDAR
VERSION:2.0
PRODID:-//Parc - Family Centered Services for People with Disabilities - Plainville CT - ECPv6.15.15//NONSGML v1.0//EN
CALSCALE:GREGORIAN
METHOD:PUBLISH
X-ORIGINAL-URL:https://www.parcdisabilitiesct.org
X-WR-CALDESC:Events for Parc - Family Centered Services for People with Disabilities - Plainville CT
REFRESH-INTERVAL;VALUE=DURATION:PT1H
X-Robots-Tag:noindex
X-PUBLISHED-TTL:PT1H
BEGIN:VTIMEZONE
TZID:UTC
BEGIN:STANDARD
TZOFFSETFROM:+0000
TZOFFSETTO:+0000
TZNAME:UTC
DTSTART:20240101T000000
END:STANDARD
END:VTIMEZONE
BEGIN:VEVENT
DTSTART;TZID=UTC:20260331T170000
DTEND;TZID=UTC:20260331T183000
DTSTAMP:20260421T161459
CREATED:20260303T015338Z
LAST-MODIFIED:20260303T015338Z
UID:16156-1774976400-1774981800@www.parcdisabilitiesct.org
SUMMARY:Reserved for the Golden Gang
DESCRIPTION:Reserved for the Golden Gang
URL:https://www.parcdisabilitiesct.org/event/reserved-for-the-golden-gang-64/
CATEGORIES:Golden Gang
ATTACH;FMTTYPE=image/jpeg:https://www.parcdisabilitiesct.org/wp-content/uploads/2022/09/Reserved-1.jpg
END:VEVENT
BEGIN:VEVENT
DTSTART;TZID=UTC:20260324T170000
DTEND;TZID=UTC:20260324T183000
DTSTAMP:20260421T161459
CREATED:20260303T015114Z
LAST-MODIFIED:20260303T015114Z
UID:16154-1774371600-1774377000@www.parcdisabilitiesct.org
SUMMARY:Reserved for the Golden Gang
DESCRIPTION:Reserved for the Golden Gang
URL:https://www.parcdisabilitiesct.org/event/reserved-for-the-golden-gang-63/
CATEGORIES:Golden Gang
ATTACH;FMTTYPE=image/png:https://www.parcdisabilitiesct.org/wp-content/uploads/2024/01/Reserved-cursive.png
END:VEVENT
BEGIN:VEVENT
DTSTART;TZID=UTC:20260317T170000
DTEND;TZID=UTC:20260317T183000
DTSTAMP:20260421T161459
CREATED:20260303T014923Z
LAST-MODIFIED:20260303T014923Z
UID:16152-1773766800-1773772200@www.parcdisabilitiesct.org
SUMMARY:Reserved for the Golden Gang
DESCRIPTION:Reserved for the Golden Gang
URL:https://www.parcdisabilitiesct.org/event/reserved-for-the-golden-gang-62/
CATEGORIES:Golden Gang
ATTACH;FMTTYPE=image/jpeg:https://www.parcdisabilitiesct.org/wp-content/uploads/2023/04/Reserved.jpg
END:VEVENT
BEGIN:VEVENT
DTSTART;TZID=UTC:20260310T170000
DTEND;TZID=UTC:20260310T183000
DTSTAMP:20260421T161459
CREATED:20260303T014648Z
LAST-MODIFIED:20260303T014648Z
UID:16150-1773162000-1773167400@www.parcdisabilitiesct.org
SUMMARY:Reserved for the Golden Gang
DESCRIPTION:Reserved for the Golden Gang
URL:https://www.parcdisabilitiesct.org/event/reserved-for-the-golden-gang-61/
CATEGORIES:Golden Gang
ATTACH;FMTTYPE=image/jpeg:https://www.parcdisabilitiesct.org/wp-content/uploads/2022/09/Reserved-1.jpg
END:VEVENT
BEGIN:VEVENT
DTSTART;TZID=UTC:20260303T170000
DTEND;TZID=UTC:20260303T183000
DTSTAMP:20260421T161459
CREATED:20260303T014435Z
LAST-MODIFIED:20260303T014435Z
UID:16148-1772557200-1772562600@www.parcdisabilitiesct.org
SUMMARY:Reserved for the Golden Gang
DESCRIPTION:Reserved for the Golden Gang
URL:https://www.parcdisabilitiesct.org/event/reserved-for-the-golden-gang-60/
CATEGORIES:Golden Gang
ATTACH;FMTTYPE=image/png:https://www.parcdisabilitiesct.org/wp-content/uploads/2024/01/Reserved-cursive.png
END:VEVENT
BEGIN:VEVENT
DTSTART;TZID=UTC:20260224T170000
DTEND;TZID=UTC:20260224T183000
DTSTAMP:20260421T161459
CREATED:20260214T033039Z
LAST-MODIFIED:20260214T033039Z
UID:16105-1771952400-1771957800@www.parcdisabilitiesct.org
SUMMARY:Reserved for Golden Gang
DESCRIPTION:Reserved for Golden Gang
URL:https://www.parcdisabilitiesct.org/event/reserved-for-golden-gang-43/
CATEGORIES:Golden Gang
ATTACH;FMTTYPE=image/jpeg:https://www.parcdisabilitiesct.org/wp-content/uploads/2022/09/Reserved-1.jpg
END:VEVENT
BEGIN:VEVENT
DTSTART;TZID=UTC:20260217T170000
DTEND;TZID=UTC:20260217T183000
DTSTAMP:20260421T161459
CREATED:20260214T031538Z
LAST-MODIFIED:20260214T031538Z
UID:16103-1771347600-1771353000@www.parcdisabilitiesct.org
SUMMARY:Reserved for Golden Gang
DESCRIPTION:Reserved for Golden Gang
URL:https://www.parcdisabilitiesct.org/event/reserved-for-golden-gang-42/
CATEGORIES:Golden Gang
ATTACH;FMTTYPE=image/jpeg:https://www.parcdisabilitiesct.org/wp-content/uploads/2023/04/Reserved.jpg
END:VEVENT
BEGIN:VEVENT
DTSTART;TZID=UTC:20260210T170000
DTEND;TZID=UTC:20260210T183000
DTSTAMP:20260421T161459
CREATED:20260214T030024Z
LAST-MODIFIED:20260214T030325Z
UID:16099-1770742800-1770748200@www.parcdisabilitiesct.org
SUMMARY:Reserved for Golden Gang
DESCRIPTION:Reserved for Golden Gang
URL:https://www.parcdisabilitiesct.org/event/reserved-for-golden-gang-41/
CATEGORIES:Golden Gang
ATTACH;FMTTYPE=image/png:https://www.parcdisabilitiesct.org/wp-content/uploads/2024/01/Reserved-cursive.png
END:VEVENT
BEGIN:VEVENT
DTSTART;TZID=UTC:20260203T170000
DTEND;TZID=UTC:20260203T183000
DTSTAMP:20260421T161459
CREATED:20260214T030706Z
LAST-MODIFIED:20260214T030856Z
UID:16101-1770138000-1770143400@www.parcdisabilitiesct.org
SUMMARY:Reserved for the Golden Gang
DESCRIPTION:Reserved for Golden Gang
URL:https://www.parcdisabilitiesct.org/event/reserved-for-the-golden-gang-59/
CATEGORIES:Golden Gang
ATTACH;FMTTYPE=image/jpeg:https://www.parcdisabilitiesct.org/wp-content/uploads/2022/09/Reserved-1.jpg
END:VEVENT
BEGIN:VEVENT
DTSTART;TZID=UTC:20260127T170000
DTEND;TZID=UTC:20260127T183000
DTSTAMP:20260421T161459
CREATED:20260112T015618Z
LAST-MODIFIED:20260112T015630Z
UID:16032-1769533200-1769538600@www.parcdisabilitiesct.org
SUMMARY:Reserved for Golden Gang
DESCRIPTION:Reserved for the Golden Gang
URL:https://www.parcdisabilitiesct.org/event/reserved-for-golden-gang-40/
CATEGORIES:Golden Gang
ATTACH;FMTTYPE=image/jpeg:https://www.parcdisabilitiesct.org/wp-content/uploads/2022/09/Reserved-1.jpg
END:VEVENT
BEGIN:VEVENT
DTSTART;TZID=UTC:20260120T170000
DTEND;TZID=UTC:20260120T183000
DTSTAMP:20260421T161459
CREATED:20260112T015354Z
LAST-MODIFIED:20260112T015354Z
UID:16030-1768928400-1768933800@www.parcdisabilitiesct.org
SUMMARY:Reserved for the Golden Gang
DESCRIPTION:Reserved for the Golden Gang
URL:https://www.parcdisabilitiesct.org/event/reserved-for-the-golden-gang-58/
CATEGORIES:Golden Gang
ATTACH;FMTTYPE=image/jpeg:https://www.parcdisabilitiesct.org/wp-content/uploads/2022/09/Reserved-1.jpg
END:VEVENT
BEGIN:VEVENT
DTSTART;TZID=UTC:20260113T170000
DTEND;TZID=UTC:20260113T183000
DTSTAMP:20260421T161459
CREATED:20260112T015123Z
LAST-MODIFIED:20260112T015123Z
UID:16028-1768323600-1768329000@www.parcdisabilitiesct.org
SUMMARY:Reserved for the Golden Gang
DESCRIPTION:Reserved for the Golden Gang
URL:https://www.parcdisabilitiesct.org/event/reserved-for-the-golden-gang-57/
CATEGORIES:Golden Gang
ATTACH;FMTTYPE=image/jpeg:https://www.parcdisabilitiesct.org/wp-content/uploads/2022/09/Reserved-1.jpg
END:VEVENT
BEGIN:VEVENT
DTSTART;TZID=UTC:20260106T170000
DTEND;TZID=UTC:20260106T183000
DTSTAMP:20260421T161459
CREATED:20260112T014909Z
LAST-MODIFIED:20260112T014909Z
UID:16026-1767718800-1767724200@www.parcdisabilitiesct.org
SUMMARY:Reserved for the Golden Gang
DESCRIPTION:Reserved for the Golden Gang
URL:https://www.parcdisabilitiesct.org/event/reserved-for-the-golden-gang-56/
CATEGORIES:Golden Gang
ATTACH;FMTTYPE=image/jpeg:https://www.parcdisabilitiesct.org/wp-content/uploads/2022/09/Reserved-1.jpg
END:VEVENT
BEGIN:VEVENT
DTSTART;TZID=UTC:20251230T170000
DTEND;TZID=UTC:20251230T183000
DTSTAMP:20260421T161459
CREATED:20251203T151440Z
LAST-MODIFIED:20251203T151440Z
UID:15959-1767114000-1767119400@www.parcdisabilitiesct.org
SUMMARY:Reserved for Golden Gang
DESCRIPTION:Reserved for Golden Gang
URL:https://www.parcdisabilitiesct.org/event/reserved-for-golden-gang-39/
CATEGORIES:Golden Gang
ATTACH;FMTTYPE=image/jpeg:https://www.parcdisabilitiesct.org/wp-content/uploads/2023/04/Reserved.jpg
END:VEVENT
BEGIN:VEVENT
DTSTART;TZID=UTC:20251223T170000
DTEND;TZID=UTC:20251223T183000
DTSTAMP:20260421T161459
CREATED:20251203T151312Z
LAST-MODIFIED:20251203T151312Z
UID:15957-1766509200-1766514600@www.parcdisabilitiesct.org
SUMMARY:Reserved for Golden Gang
DESCRIPTION:Reserved for Golden Gang
URL:https://www.parcdisabilitiesct.org/event/reserved-for-golden-gang-38/
CATEGORIES:Golden Gang
ATTACH;FMTTYPE=image/png:https://www.parcdisabilitiesct.org/wp-content/uploads/2024/01/Reserved-cursive.png
END:VEVENT
BEGIN:VEVENT
DTSTART;TZID=UTC:20251218T170000
DTEND;TZID=UTC:20251218T183000
DTSTAMP:20260421T161459
CREATED:20251203T154534Z
LAST-MODIFIED:20251203T154534Z
UID:15979-1766077200-1766082600@www.parcdisabilitiesct.org
SUMMARY:Golden Gang Holiday Party
DESCRIPTION:Golden Gang Holiday Party!
URL:https://www.parcdisabilitiesct.org/event/golden-gang-holiday-party/
CATEGORIES:Golden Gang
ATTACH;FMTTYPE=image/png:https://www.parcdisabilitiesct.org/wp-content/uploads/2024/11/Holiday-Party.png
END:VEVENT
BEGIN:VEVENT
DTSTART;TZID=UTC:20251216T170000
DTEND;TZID=UTC:20251216T183000
DTSTAMP:20260421T161459
CREATED:20251203T151121Z
LAST-MODIFIED:20251203T151121Z
UID:15955-1765904400-1765909800@www.parcdisabilitiesct.org
SUMMARY:Reserved for Golden Gang
DESCRIPTION:Reserved for Golden Gang
URL:https://www.parcdisabilitiesct.org/event/reserved-for-golden-gang-37/
CATEGORIES:Golden Gang
ATTACH;FMTTYPE=image/png:https://www.parcdisabilitiesct.org/wp-content/uploads/2024/01/Reserved-cursive.png
END:VEVENT
BEGIN:VEVENT
DTSTART;TZID=UTC:20251209T170000
DTEND;TZID=UTC:20251209T183000
DTSTAMP:20260421T161459
CREATED:20251203T150934Z
LAST-MODIFIED:20251203T150934Z
UID:15953-1765299600-1765305000@www.parcdisabilitiesct.org
SUMMARY:Reserved for Golden Gang
DESCRIPTION:Reserved for Golden Gang
URL:https://www.parcdisabilitiesct.org/event/reserved-for-golden-gang-36/
CATEGORIES:Golden Gang
ATTACH;FMTTYPE=image/jpeg:https://www.parcdisabilitiesct.org/wp-content/uploads/2022/09/Reserved-1.jpg
END:VEVENT
BEGIN:VEVENT
DTSTART;TZID=UTC:20251202T170000
DTEND;TZID=UTC:20251202T183000
DTSTAMP:20260421T161459
CREATED:20251203T030852Z
LAST-MODIFIED:20251203T030852Z
UID:15923-1764694800-1764700200@www.parcdisabilitiesct.org
SUMMARY:Reserved for Golden Gang
DESCRIPTION:Reserved for Golden Gang
URL:https://www.parcdisabilitiesct.org/event/reserved-for-golden-gang-35/
CATEGORIES:Golden Gang
ATTACH;FMTTYPE=image/jpeg:https://www.parcdisabilitiesct.org/wp-content/uploads/2022/09/Reserved-1.jpg
END:VEVENT
BEGIN:VEVENT
DTSTART;TZID=UTC:20251125T170000
DTEND;TZID=UTC:20251125T183000
DTSTAMP:20260421T161459
CREATED:20251108T002827Z
LAST-MODIFIED:20251108T002827Z
UID:15895-1764090000-1764095400@www.parcdisabilitiesct.org
SUMMARY:Reserved for the Golden Gang
DESCRIPTION:Reserved for the Golden Gang
URL:https://www.parcdisabilitiesct.org/event/reserved-for-the-golden-gang-55/
CATEGORIES:Golden Gang
ATTACH;FMTTYPE=image/jpeg:https://www.parcdisabilitiesct.org/wp-content/uploads/2022/09/Reserved-1.jpg
END:VEVENT
BEGIN:VEVENT
DTSTART;TZID=UTC:20251118T170000
DTEND;TZID=UTC:20251118T183000
DTSTAMP:20260421T161459
CREATED:20251108T002205Z
LAST-MODIFIED:20251108T002205Z
UID:15889-1763485200-1763490600@www.parcdisabilitiesct.org
SUMMARY:Reserved for the Golden Gang
DESCRIPTION:Reserved for the Golden Gang
URL:https://www.parcdisabilitiesct.org/event/reserved-for-the-golden-gang-54/
CATEGORIES:Golden Gang
ATTACH;FMTTYPE=image/jpeg:https://www.parcdisabilitiesct.org/wp-content/uploads/2022/09/Reserved-1.jpg
END:VEVENT
BEGIN:VEVENT
DTSTART;TZID=UTC:20251111T170000
DTEND;TZID=UTC:20251111T183000
DTSTAMP:20260421T161459
CREATED:20251108T001504Z
LAST-MODIFIED:20251108T001504Z
UID:15882-1762880400-1762885800@www.parcdisabilitiesct.org
SUMMARY:Reserved for the Golden Gang
DESCRIPTION:Reserved for the Golden Gang
URL:https://www.parcdisabilitiesct.org/event/reserved-for-the-golden-gang-53/
CATEGORIES:Golden Gang
ATTACH;FMTTYPE=image/jpeg:https://www.parcdisabilitiesct.org/wp-content/uploads/2022/09/Reserved-1.jpg
END:VEVENT
BEGIN:VEVENT
DTSTART;TZID=UTC:20251104T170000
DTEND;TZID=UTC:20251104T190000
DTSTAMP:20260421T161459
CREATED:20251107T191831Z
LAST-MODIFIED:20251107T191831Z
UID:15858-1762275600-1762282800@www.parcdisabilitiesct.org
SUMMARY:Reserved for Golden Gang
DESCRIPTION:Reserved for Golden Gang
URL:https://www.parcdisabilitiesct.org/event/reserved-for-golden-gang-33/
CATEGORIES:Golden Gang
END:VEVENT
BEGIN:VEVENT
DTSTART;TZID=UTC:20251028T170000
DTEND;TZID=UTC:20251028T183000
DTSTAMP:20260421T161459
CREATED:20250925T020135Z
LAST-MODIFIED:20250925T020135Z
UID:15810-1761670800-1761676200@www.parcdisabilitiesct.org
SUMMARY:Reserved for the Golden Gang
DESCRIPTION:Reserved for the Golden Gang
URL:https://www.parcdisabilitiesct.org/event/reserved-for-the-golden-gang-52/
CATEGORIES:Golden Gang
ATTACH;FMTTYPE=image/jpeg:https://www.parcdisabilitiesct.org/wp-content/uploads/2022/09/Reserved-1.jpg
END:VEVENT
BEGIN:VEVENT
DTSTART;TZID=UTC:20251021T170000
DTEND;TZID=UTC:20251021T183000
DTSTAMP:20260421T161459
CREATED:20250925T015833Z
LAST-MODIFIED:20250925T015833Z
UID:15808-1761066000-1761071400@www.parcdisabilitiesct.org
SUMMARY:Reserved for the Golden Gang
DESCRIPTION:Reserved for the Golden Gang
URL:https://www.parcdisabilitiesct.org/event/reserved-for-the-golden-gang-51/
CATEGORIES:Golden Gang
ATTACH;FMTTYPE=image/jpeg:https://www.parcdisabilitiesct.org/wp-content/uploads/2023/04/Reserved.jpg
END:VEVENT
BEGIN:VEVENT
DTSTART;TZID=UTC:20251014T170000
DTEND;TZID=UTC:20251014T183000
DTSTAMP:20260421T161459
CREATED:20250925T015556Z
LAST-MODIFIED:20250925T015556Z
UID:15806-1760461200-1760466600@www.parcdisabilitiesct.org
SUMMARY:Reserved for the Golden Gang
DESCRIPTION:Reserved for the Golden Gang
URL:https://www.parcdisabilitiesct.org/event/reserved-for-the-golden-gang-50/
CATEGORIES:Golden Gang
ATTACH;FMTTYPE=image/png:https://www.parcdisabilitiesct.org/wp-content/uploads/2024/01/Reserved-cursive.png
END:VEVENT
BEGIN:VEVENT
DTSTART;TZID=UTC:20251007T170000
DTEND;TZID=UTC:20251007T183000
DTSTAMP:20260421T161459
CREATED:20250925T015121Z
LAST-MODIFIED:20250925T015121Z
UID:15804-1759856400-1759861800@www.parcdisabilitiesct.org
SUMMARY:Reserved for the Golden Gang
DESCRIPTION:Reserved for the Golden Gang
URL:https://www.parcdisabilitiesct.org/event/reserved-for-the-golden-gang-49/
CATEGORIES:Golden Gang
ATTACH;FMTTYPE=image/jpeg:https://www.parcdisabilitiesct.org/wp-content/uploads/2022/09/Reserved-1.jpg
END:VEVENT
BEGIN:VEVENT
DTSTART;TZID=UTC:20250930T170000
DTEND;TZID=UTC:20250930T183000
DTSTAMP:20260421T161459
CREATED:20250829T153004Z
LAST-MODIFIED:20250829T153148Z
UID:15738-1759251600-1759257000@www.parcdisabilitiesct.org
SUMMARY:Reserved for the Golden Gang
DESCRIPTION:Reserved for the Golden Gang
URL:https://www.parcdisabilitiesct.org/event/reserved-for-the-golden-gang-48/
CATEGORIES:Golden Gang
ATTACH;FMTTYPE=image/jpeg:https://www.parcdisabilitiesct.org/wp-content/uploads/2022/09/Reserved-1.jpg
END:VEVENT
BEGIN:VEVENT
DTSTART;TZID=UTC:20250923T170000
DTEND;TZID=UTC:20250923T170000
DTSTAMP:20260421T161459
CREATED:20250829T151348Z
LAST-MODIFIED:20250829T153337Z
UID:15729-1758646800-1758646800@www.parcdisabilitiesct.org
SUMMARY:Reserved for Golden Gang
DESCRIPTION:Reserved for Golden Gang
URL:https://www.parcdisabilitiesct.org/event/reserved-for-golden-gang-34/
CATEGORIES:Golden Gang
ATTACH;FMTTYPE=image/png:https://www.parcdisabilitiesct.org/wp-content/uploads/2024/01/Reserved-cursive.png
END:VEVENT
BEGIN:VEVENT
DTSTART;TZID=UTC:20250916T170000
DTEND;TZID=UTC:20250916T183000
DTSTAMP:20260421T161459
CREATED:20250829T152658Z
LAST-MODIFIED:20250829T152720Z
UID:15735-1758042000-1758047400@www.parcdisabilitiesct.org
SUMMARY:Reserved for the Golden Gang
DESCRIPTION:Reserved for the Golden Gang
URL:https://www.parcdisabilitiesct.org/event/reserved-for-the-golden-gang-47/
CATEGORIES:Golden Gang
ATTACH;FMTTYPE=image/png:https://www.parcdisabilitiesct.org/wp-content/uploads/2024/01/Reserved-cursive.png
END:VEVENT
END:VCALENDAR