BEGIN:VCALENDAR
VERSION:2.0
PRODID:-//Parc - Family Centered Services for People with Disabilities - Plainville CT - ECPv6.15.15//NONSGML v1.0//EN
CALSCALE:GREGORIAN
METHOD:PUBLISH
X-WR-CALNAME:Parc - Family Centered Services for People with Disabilities - Plainville CT
X-ORIGINAL-URL:https://www.parcdisabilitiesct.org
X-WR-CALDESC:Events for Parc - Family Centered Services for People with Disabilities - Plainville CT
REFRESH-INTERVAL;VALUE=DURATION:PT1H
X-Robots-Tag:noindex
X-PUBLISHED-TTL:PT1H
BEGIN:VTIMEZONE
TZID:UTC
BEGIN:STANDARD
TZOFFSETFROM:+0000
TZOFFSETTO:+0000
TZNAME:UTC
DTSTART:20250101T000000
END:STANDARD
END:VTIMEZONE
BEGIN:VEVENT
DTSTART;TZID=UTC:20260427T183000
DTEND;TZID=UTC:20260427T200000
DTSTAMP:20260422T102703
CREATED:20260421T162038Z
LAST-MODIFIED:20260421T162038Z
UID:16218-1777314600-1777320000@www.parcdisabilitiesct.org
SUMMARY:Adult Life Skills
DESCRIPTION:Adult Life Skills
URL:https://www.parcdisabilitiesct.org/event/adult-life-skills-98/
CATEGORIES:Adult Life Skills
ATTACH;FMTTYPE=image/jpeg:https://www.parcdisabilitiesct.org/wp-content/uploads/2022/02/Life-Skills.jpg
END:VEVENT
END:VCALENDAR