BEGIN:VCALENDAR
VERSION:2.0
PRODID:-//Parc - Family Centered Services for People with Disabilities - Plainville CT - ECPv6.15.15//NONSGML v1.0//EN
CALSCALE:GREGORIAN
METHOD:PUBLISH
X-WR-CALNAME:Parc - Family Centered Services for People with Disabilities - Plainville CT
X-ORIGINAL-URL:https://www.parcdisabilitiesct.org
X-WR-CALDESC:Events for Parc - Family Centered Services for People with Disabilities - Plainville CT
REFRESH-INTERVAL;VALUE=DURATION:PT1H
X-Robots-Tag:noindex
X-PUBLISHED-TTL:PT1H
BEGIN:VTIMEZONE
TZID:UTC
BEGIN:STANDARD
TZOFFSETFROM:+0000
TZOFFSETTO:+0000
TZNAME:UTC
DTSTART:20250101T000000
END:STANDARD
END:VTIMEZONE
BEGIN:VEVENT
DTSTART;TZID=UTC:20260202T183000
DTEND;TZID=UTC:20260202T200000
DTSTAMP:20260421T162106
CREATED:20260208T232007Z
LAST-MODIFIED:20260208T232007Z
UID:16090-1770057000-1770062400@www.parcdisabilitiesct.org
SUMMARY:Adult Life Skills
DESCRIPTION:Adult Life Skills
URL:https://www.parcdisabilitiesct.org/event/adult-life-skills-89/
CATEGORIES:Adult Life Skills
ATTACH;FMTTYPE=image/jpeg:https://www.parcdisabilitiesct.org/wp-content/uploads/2025/12/Life-Skills-004.jpg
END:VEVENT
BEGIN:VEVENT
DTSTART;TZID=UTC:20260209T183000
DTEND;TZID=UTC:20260209T200000
DTSTAMP:20260421T162107
CREATED:20260214T024841Z
LAST-MODIFIED:20260214T024841Z
UID:16092-1770661800-1770667200@www.parcdisabilitiesct.org
SUMMARY:Adult Life Skills
DESCRIPTION:Adult Life Skills
URL:https://www.parcdisabilitiesct.org/event/adult-life-skills-90/
CATEGORIES:Adult Life Skills
ATTACH;FMTTYPE=image/jpeg:https://www.parcdisabilitiesct.org/wp-content/uploads/2022/02/Life-Skills.jpg
END:VEVENT
BEGIN:VEVENT
DTSTART;TZID=UTC:20260216T183000
DTEND;TZID=UTC:20260216T200000
DTSTAMP:20260421T162107
CREATED:20260214T025212Z
LAST-MODIFIED:20260214T025212Z
UID:16094-1771266600-1771272000@www.parcdisabilitiesct.org
SUMMARY:NO Adult Life Skills - Spring Break
DESCRIPTION:NO Adult Life Skills – Spring Break
URL:https://www.parcdisabilitiesct.org/event/no-adult-life-skills-spring-break/
CATEGORIES:Adult Life Skills
END:VEVENT
BEGIN:VEVENT
DTSTART;TZID=UTC:20260223T183000
DTEND;TZID=UTC:20260223T200000
DTSTAMP:20260421T162107
CREATED:20260214T025522Z
LAST-MODIFIED:20260214T025522Z
UID:16096-1771871400-1771876800@www.parcdisabilitiesct.org
SUMMARY:Adult Life Skills
DESCRIPTION:Adult Life Skills
URL:https://www.parcdisabilitiesct.org/event/adult-life-skills-91/
CATEGORIES:Adult Life Skills
ATTACH;FMTTYPE=image/jpeg:https://www.parcdisabilitiesct.org/wp-content/uploads/2025/12/Life-Skills-004.jpg
END:VEVENT
END:VCALENDAR