BEGIN:VCALENDAR
VERSION:2.0
PRODID:-//Parc - Family Centered Services for People with Disabilities - Plainville CT - ECPv6.15.15//NONSGML v1.0//EN
CALSCALE:GREGORIAN
METHOD:PUBLISH
X-ORIGINAL-URL:https://www.parcdisabilitiesct.org
X-WR-CALDESC:Events for Parc - Family Centered Services for People with Disabilities - Plainville CT
REFRESH-INTERVAL;VALUE=DURATION:PT1H
X-Robots-Tag:noindex
X-PUBLISHED-TTL:PT1H
BEGIN:VTIMEZONE
TZID:UTC
BEGIN:STANDARD
TZOFFSETFROM:+0000
TZOFFSETTO:+0000
TZNAME:UTC
DTSTART:20230101T000000
END:STANDARD
END:VTIMEZONE
BEGIN:VEVENT
DTSTART;TZID=UTC:20241005T090000
DTEND;TZID=UTC:20241005T130000
DTSTAMP:20260422T054514
CREATED:20240929T022126Z
LAST-MODIFIED:20240929T022126Z
UID:14893-1728118800-1728133200@www.parcdisabilitiesct.org
SUMMARY:Cindy Sunshine Campership Fund Bottle Drive
DESCRIPTION:In memory of staff member Cindy Muller\, PARC is kicking off the Cindy Sunshine Campership Fund with a special can and bottle drive to be held at PARC on Saturday\, Oct. 5\, from 9 a.m. to 1 p.m.\, 28 E. Maple St. Stop by with your cans & bottles!
URL:https://www.parcdisabilitiesct.org/event/cindy-sunshine-campership-fund-bottle-drive/
CATEGORIES:Special Event
ATTACH;FMTTYPE=image/png:https://www.parcdisabilitiesct.org/wp-content/uploads/2024/09/Cindy-Sunshine-Bottle-Drive-Flier-cropped.png
END:VEVENT
BEGIN:VEVENT
DTSTART;TZID=UTC:20241005T100000
DTEND;TZID=UTC:20241005T120000
DTSTAMP:20260422T054514
CREATED:20241001T154012Z
LAST-MODIFIED:20241001T154012Z
UID:14895-1728122400-1728129600@www.parcdisabilitiesct.org
SUMMARY:NO Bowling - Cindy Sunshine Can & Bottle Drive
DESCRIPTION:
URL:https://www.parcdisabilitiesct.org/event/no-bowling-cindy-sunshine-can-bottle-drive/
END:VEVENT
END:VCALENDAR