BEGIN:VCALENDAR
VERSION:2.0
PRODID:-//Parc - Family Centered Services for People with Disabilities - Plainville CT - ECPv6.15.15//NONSGML v1.0//EN
CALSCALE:GREGORIAN
METHOD:PUBLISH
X-WR-CALNAME:Parc - Family Centered Services for People with Disabilities - Plainville CT
X-ORIGINAL-URL:https://www.parcdisabilitiesct.org
X-WR-CALDESC:Events for Parc - Family Centered Services for People with Disabilities - Plainville CT
REFRESH-INTERVAL;VALUE=DURATION:PT1H
X-Robots-Tag:noindex
X-PUBLISHED-TTL:PT1H
BEGIN:VTIMEZONE
TZID:UTC
BEGIN:STANDARD
TZOFFSETFROM:+0000
TZOFFSETTO:+0000
TZNAME:UTC
DTSTART:20230101T000000
END:STANDARD
END:VTIMEZONE
BEGIN:VEVENT
DTSTART;TZID=UTC:20240914T100000
DTEND;TZID=UTC:20240914T120000
DTSTAMP:20260422T054350
CREATED:20240826T024752Z
LAST-MODIFIED:20240826T024752Z
UID:14853-1726308000-1726315200@www.parcdisabilitiesct.org
SUMMARY:Bowling at Lessard Lanes
DESCRIPTION:Bowling is free for PARC members at Lessard Lanes on Saturdays. Tweens welcome!
URL:https://www.parcdisabilitiesct.org/event/bowling-at-lessard-lanes-95/
CATEGORIES:Healthy Living activity
ATTACH;FMTTYPE=image/jpeg:https://www.parcdisabilitiesct.org/wp-content/uploads/2023/07/bowling.jpg
END:VEVENT
END:VCALENDAR