BEGIN:VCALENDAR
VERSION:2.0
PRODID:-//Parc - Family Centered Services for People with Disabilities - Plainville CT - ECPv6.15.15//NONSGML v1.0//EN
CALSCALE:GREGORIAN
METHOD:PUBLISH
X-ORIGINAL-URL:https://www.parcdisabilitiesct.org
X-WR-CALDESC:Events for Parc - Family Centered Services for People with Disabilities - Plainville CT
REFRESH-INTERVAL;VALUE=DURATION:PT1H
X-Robots-Tag:noindex
X-PUBLISHED-TTL:PT1H
BEGIN:VTIMEZONE
TZID:UTC
BEGIN:STANDARD
TZOFFSETFROM:+0000
TZOFFSETTO:+0000
TZNAME:UTC
DTSTART:20230101T000000
END:STANDARD
END:VTIMEZONE
BEGIN:VEVENT
DTSTART;TZID=UTC:20240831T100000
DTEND;TZID=UTC:20240831T120000
DTSTAMP:20260422T002938
CREATED:20240729T013746Z
LAST-MODIFIED:20240729T141837Z
UID:14744-1725098400-1725105600@www.parcdisabilitiesct.org
SUMMARY:NO BOWLING TODAY
DESCRIPTION:NO BOWLING TODAY – Labor Day weekend!
URL:https://www.parcdisabilitiesct.org/event/bowling-at-lessard-lanes-93/
END:VEVENT
END:VCALENDAR