BEGIN:VCALENDAR
VERSION:2.0
PRODID:-//Parc - Family Centered Services for People with Disabilities - Plainville CT - ECPv6.15.15//NONSGML v1.0//EN
CALSCALE:GREGORIAN
METHOD:PUBLISH
X-WR-CALNAME:Parc - Family Centered Services for People with Disabilities - Plainville CT
X-ORIGINAL-URL:https://www.parcdisabilitiesct.org
X-WR-CALDESC:Events for Parc - Family Centered Services for People with Disabilities - Plainville CT
REFRESH-INTERVAL;VALUE=DURATION:PT1H
X-Robots-Tag:noindex
X-PUBLISHED-TTL:PT1H
BEGIN:VTIMEZONE
TZID:UTC
BEGIN:STANDARD
TZOFFSETFROM:+0000
TZOFFSETTO:+0000
TZNAME:UTC
DTSTART:20230101T000000
END:STANDARD
END:VTIMEZONE
BEGIN:VEVENT
DTSTART;TZID=UTC:20240806T170000
DTEND;TZID=UTC:20240806T190000
DTSTAMP:20260422T002735
CREATED:20240729T015300Z
LAST-MODIFIED:20240826T234807Z
UID:14749-1722963600-1722970800@www.parcdisabilitiesct.org
SUMMARY:Reserved for Golden Gang
DESCRIPTION:Reserved for Golden Gang
URL:https://www.parcdisabilitiesct.org/event/reserved-for-golden-gang-11/
CATEGORIES:Healthy Living activity
ATTACH;FMTTYPE=image/png:https://www.parcdisabilitiesct.org/wp-content/uploads/2024/01/Reserved-cursive.png
END:VEVENT
END:VCALENDAR