BEGIN:VCALENDAR
VERSION:2.0
PRODID:-//Parc - Family Centered Services for People with Disabilities - Plainville CT - ECPv6.15.15//NONSGML v1.0//EN
CALSCALE:GREGORIAN
METHOD:PUBLISH
X-ORIGINAL-URL:https://www.parcdisabilitiesct.org
X-WR-CALDESC:Events for Parc - Family Centered Services for People with Disabilities - Plainville CT
REFRESH-INTERVAL;VALUE=DURATION:PT1H
X-Robots-Tag:noindex
X-PUBLISHED-TTL:PT1H
BEGIN:VTIMEZONE
TZID:UTC
BEGIN:STANDARD
TZOFFSETFROM:+0000
TZOFFSETTO:+0000
TZNAME:UTC
DTSTART:20230101T000000
END:STANDARD
END:VTIMEZONE
BEGIN:VEVENT
DTSTART;TZID=UTC:20240715T180000
DTEND;TZID=UTC:20240715T200000
DTSTAMP:20260422T021256
CREATED:20240625T015502Z
LAST-MODIFIED:20240625T015502Z
UID:14681-1721066400-1721073600@www.parcdisabilitiesct.org
SUMMARY:Wii or Crafts
DESCRIPTION:It’s your choice: wii or crafts!
URL:https://www.parcdisabilitiesct.org/event/wii-or-crafts/
CATEGORIES:Healthy Living activity
ATTACH;FMTTYPE=image/png:https://www.parcdisabilitiesct.org/wp-content/uploads/2022/05/arts-crafts.png
END:VEVENT
END:VCALENDAR