BEGIN:VCALENDAR
VERSION:2.0
PRODID:-//Parc - Family Centered Services for People with Disabilities - Plainville CT - ECPv6.15.15//NONSGML v1.0//EN
CALSCALE:GREGORIAN
METHOD:PUBLISH
X-ORIGINAL-URL:https://www.parcdisabilitiesct.org
X-WR-CALDESC:Events for Parc - Family Centered Services for People with Disabilities - Plainville CT
REFRESH-INTERVAL;VALUE=DURATION:PT1H
X-Robots-Tag:noindex
X-PUBLISHED-TTL:PT1H
BEGIN:VTIMEZONE
TZID:UTC
BEGIN:STANDARD
TZOFFSETFROM:+0000
TZOFFSETTO:+0000
TZNAME:UTC
DTSTART:20230101T000000
END:STANDARD
END:VTIMEZONE
BEGIN:VEVENT
DTSTART;TZID=UTC:20240624T180000
DTEND;TZID=UTC:20240624T200000
DTSTAMP:20260422T002943
CREATED:20240530T175724Z
LAST-MODIFIED:20240530T175724Z
UID:14621-1719252000-1719259200@www.parcdisabilitiesct.org
SUMMARY:Yoga with Amy
DESCRIPTION:Yoga with Amy – namaste!
URL:https://www.parcdisabilitiesct.org/event/yoga-with-amy-4/
ATTACH;FMTTYPE=image/png:https://www.parcdisabilitiesct.org/wp-content/uploads/2023/10/yoga-thumbsdreastime.png
END:VEVENT
END:VCALENDAR