BEGIN:VCALENDAR
VERSION:2.0
PRODID:-//Parc - Family Centered Services for People with Disabilities - Plainville CT - ECPv6.15.15//NONSGML v1.0//EN
CALSCALE:GREGORIAN
METHOD:PUBLISH
X-WR-CALNAME:Parc - Family Centered Services for People with Disabilities - Plainville CT
X-ORIGINAL-URL:https://www.parcdisabilitiesct.org
X-WR-CALDESC:Events for Parc - Family Centered Services for People with Disabilities - Plainville CT
REFRESH-INTERVAL;VALUE=DURATION:PT1H
X-Robots-Tag:noindex
X-PUBLISHED-TTL:PT1H
BEGIN:VTIMEZONE
TZID:UTC
BEGIN:STANDARD
TZOFFSETFROM:+0000
TZOFFSETTO:+0000
TZNAME:UTC
DTSTART:20230101T000000
END:STANDARD
END:VTIMEZONE
BEGIN:VEVENT
DTSTART;TZID=UTC:20240620T180000
DTEND;TZID=UTC:20240620T200000
DTSTAMP:20260422T002725
CREATED:20240530T190123Z
LAST-MODIFIED:20240530T190123Z
UID:14645-1718906400-1718913600@www.parcdisabilitiesct.org
SUMMARY:Family Potluck Cookout!
DESCRIPTION:This month we will be hosting our Annual Family Potluck Cookout on June 20th from 6 to 8 p.m.. We will be providing hot dogs and hamburgers\, please bring anything you would like to share with the group.
URL:https://www.parcdisabilitiesct.org/event/family-potluck-cookout/
CATEGORIES:Healthy Living activity
ATTACH;FMTTYPE=image/jpeg:https://www.parcdisabilitiesct.org/wp-content/uploads/2024/05/barbecue.jpeg
END:VEVENT
END:VCALENDAR