BEGIN:VCALENDAR
VERSION:2.0
PRODID:-//Parc - Family Centered Services for People with Disabilities - Plainville CT - ECPv6.15.15//NONSGML v1.0//EN
CALSCALE:GREGORIAN
METHOD:PUBLISH
X-ORIGINAL-URL:https://www.parcdisabilitiesct.org
X-WR-CALDESC:Events for Parc - Family Centered Services for People with Disabilities - Plainville CT
REFRESH-INTERVAL;VALUE=DURATION:PT1H
X-Robots-Tag:noindex
X-PUBLISHED-TTL:PT1H
BEGIN:VTIMEZONE
TZID:UTC
BEGIN:STANDARD
TZOFFSETFROM:+0000
TZOFFSETTO:+0000
TZNAME:UTC
DTSTART:20230101T000000
END:STANDARD
END:VTIMEZONE
BEGIN:VEVENT
DTSTART;TZID=UTC:20240615T100000
DTEND;TZID=UTC:20240615T120000
DTSTAMP:20260422T021325
CREATED:20240530T191439Z
LAST-MODIFIED:20240530T191439Z
UID:14658-1718445600-1718452800@www.parcdisabilitiesct.org
SUMMARY:Bowling at Lessard Lanes
DESCRIPTION:Bowling on Saturdays at Lessard Lanes is free for PARC members!
URL:https://www.parcdisabilitiesct.org/event/bowling-at-lessard-lanes-83/
CATEGORIES:Healthy Living activity
ATTACH;FMTTYPE=image/png:https://www.parcdisabilitiesct.org/wp-content/uploads/2022/06/Bowling-pins.png
END:VEVENT
END:VCALENDAR