BEGIN:VCALENDAR
VERSION:2.0
PRODID:-//Parc - Family Centered Services for People with Disabilities - Plainville CT - ECPv6.15.15//NONSGML v1.0//EN
CALSCALE:GREGORIAN
METHOD:PUBLISH
X-ORIGINAL-URL:https://www.parcdisabilitiesct.org
X-WR-CALDESC:Events for Parc - Family Centered Services for People with Disabilities - Plainville CT
REFRESH-INTERVAL;VALUE=DURATION:PT1H
X-Robots-Tag:noindex
X-PUBLISHED-TTL:PT1H
BEGIN:VTIMEZONE
TZID:UTC
BEGIN:STANDARD
TZOFFSETFROM:+0000
TZOFFSETTO:+0000
TZNAME:UTC
DTSTART:20230101T000000
END:STANDARD
END:VTIMEZONE
BEGIN:VEVENT
DTSTART;TZID=UTC:20240523T180000
DTEND;TZID=UTC:20240523T200000
DTSTAMP:20260422T035641
CREATED:20240429T005227Z
LAST-MODIFIED:20240429T005227Z
UID:14596-1716487200-1716494400@www.parcdisabilitiesct.org
SUMMARY:Getting patriotic - making signs & posters
DESCRIPTION:Just in time for Memorial Day\, we will be getting patriotic by making signs & posters!
URL:https://www.parcdisabilitiesct.org/event/getting-patriotic-making-signs-posters/
CATEGORIES:Healthy Living activity
ATTACH;FMTTYPE=image/jpeg:https://www.parcdisabilitiesct.org/wp-content/uploads/2023/07/350495247_1181190275905015_739326150308681787_n.jpg
END:VEVENT
END:VCALENDAR